BEGIN:VCALENDAR
VERSION:2.0
PRODID:-//Date iCal//NONSGML kigkonsult.se iCalcreator 2.20.2//
METHOD:PUBLISH
X-WR-CALNAME;VALUE=TEXT:CFMEU
BEGIN:VEVENT
UID:calendar.1010828.field_event_date_time.0@act.cfmeu.org.au
CREATED:20200113T232957Z
DESCRIPTION:New Years Day
DTSTART;VALUE=DATE:20200101
DTEND;VALUE=DATE:20200102
LAST-MODIFIED:20200113T232957Z
SUMMARY:New Years Day
URL;TYPE=URI:https://act.cfmeu.org.au/events/new-years-day-5
END:VEVENT
BEGIN:VEVENT
UID:calendar.1010829.field_event_date_time.0@act.cfmeu.org.au
CREATED:20200113T233548Z
DESCRIPTION:RDO - 36 hour week
DTSTART;VALUE=DATE:20200102
DTEND;VALUE=DATE:20200103
LAST-MODIFIED:20200113T233842Z
SUMMARY:RDO - 36 hour week
URL;TYPE=URI:https://act.cfmeu.org.au/events/rdo-36-hour-week-26
END:VEVENT
BEGIN:VEVENT
UID:calendar.1010830.field_event_date_time.0@act.cfmeu.org.au
CREATED:20200113T233652Z
DESCRIPTION:RDO - 36 hour week
DTSTART;VALUE=DATE:20200124
DTEND;VALUE=DATE:20200125
LAST-MODIFIED:20200113T233912Z
SUMMARY:RDO - 36 hour week
URL;TYPE=URI:https://act.cfmeu.org.au/events/rdo-36-hour-week-27
END:VEVENT
BEGIN:VEVENT
UID:calendar.1010831.field_event_date_time.0@act.cfmeu.org.au
CREATED:20200113T233753Z
DESCRIPTION:Australia Day Public Holiday
DTSTART;VALUE=DATE:20200127
DTEND;VALUE=DATE:20200128
LAST-MODIFIED:20200113T233753Z
SUMMARY:Australia Day Public Holiday
URL;TYPE=URI:https://act.cfmeu.org.au/events/australia-day-public-holiday-1
END:VEVENT
BEGIN:VEVENT
UID:calendar.1010833.field_event_date_time.0@act.cfmeu.org.au
CREATED:20200113T234126Z
DESCRIPTION:RDO - 36 hour week
DTSTART;VALUE=DATE:20200203
DTEND;VALUE=DATE:20200204
LAST-MODIFIED:20200113T234126Z
SUMMARY:RDO - 36 hour week
URL;TYPE=URI:https://act.cfmeu.org.au/events/rdo-36-hour-week-28
END:VEVENT
BEGIN:VEVENT
UID:calendar.1010834.field_event_date_time.0@act.cfmeu.org.au
CREATED:20200113T234226Z
DESCRIPTION:Delegates/HSR Meeting
DTSTART;VALUE=DATE:20200219
DTEND;VALUE=DATE:20200220
LAST-MODIFIED:20200113T234226Z
SUMMARY:Delegates/HSR Meeting
URL;TYPE=URI:https://act.cfmeu.org.au/events/delegateshsr-meeting-9
END:VEVENT
BEGIN:VEVENT
UID:calendar.1010836.field_event_date_time.0@act.cfmeu.org.au
CREATED:20200113T234429Z
DESCRIPTION:Canberra Day
DTSTART;VALUE=DATE:20200309
DTEND;VALUE=DATE:20200310
LAST-MODIFIED:20200113T234429Z
SUMMARY:Canberra Day
URL;TYPE=URI:https://act.cfmeu.org.au/events/canberra-day-2
END:VEVENT
BEGIN:VEVENT
UID:calendar.1010838.field_event_date_time.0@act.cfmeu.org.au
CREATED:20200113T234623Z
DESCRIPTION:Delegates/HSR Meeting
DTSTART;VALUE=DATE:20200325
DTEND;VALUE=DATE:20200326
LAST-MODIFIED:20200113T234623Z
SUMMARY:Delegates/HSR Meeting
URL;TYPE=URI:https://act.cfmeu.org.au/events/delegateshsr-meeting-10
END:VEVENT
BEGIN:VEVENT
UID:calendar.1010839.field_event_date_time.0@act.cfmeu.org.au
CREATED:20200113T234722Z
DESCRIPTION:RDO - 36 hour week
DTSTART;VALUE=DATE:20200330
DTEND;VALUE=DATE:20200331
LAST-MODIFIED:20200113T234722Z
SUMMARY:RDO - 36 hour week
URL;TYPE=URI:https://act.cfmeu.org.au/events/rdo-36-hour-week-29
END:VEVENT
BEGIN:VEVENT
UID:calendar.1010840.field_event_date_time.0@act.cfmeu.org.au
CREATED:20200113T234818Z
DESCRIPTION:RDO - 36 hour week
DTSTART;VALUE=DATE:20200409
DTEND;VALUE=DATE:20200410
LAST-MODIFIED:20200113T234818Z
SUMMARY:RDO - 36 hour week
URL;TYPE=URI:https://act.cfmeu.org.au/events/rdo-36-hour-week-30
END:VEVENT
BEGIN:VEVENT
UID:calendar.1010841.field_event_date_time.0@act.cfmeu.org.au
CREATED:20200114T020338Z
DESCRIPTION:Good Friday
DTSTART;VALUE=DATE:20200410
DTEND;VALUE=DATE:20200411
LAST-MODIFIED:20200114T020525Z
SUMMARY:Good Friday
URL;TYPE=URI:https://act.cfmeu.org.au/events/good-friday-4
END:VEVENT
BEGIN:VEVENT
UID:calendar.1010842.field_event_date_time.0@act.cfmeu.org.au
CREATED:20200114T020627Z
DESCRIPTION:Day following Good Friday
DTSTART;VALUE=DATE:20200411
DTEND;VALUE=DATE:20200412
LAST-MODIFIED:20200114T020627Z
SUMMARY:Day following Good Friday
URL;TYPE=URI:https://act.cfmeu.org.au/events/day-following-good-friday
END:VEVENT
BEGIN:VEVENT
UID:calendar.1010843.field_event_date_time.0@act.cfmeu.org.au
CREATED:20200114T020732Z
DESCRIPTION:Easter Sunday
DTSTART;VALUE=DATE:20200412
DTEND;VALUE=DATE:20200413
LAST-MODIFIED:20200114T020732Z
SUMMARY:Easter Sunday
URL;TYPE=URI:https://act.cfmeu.org.au/events/easter-sunday-1
END:VEVENT
BEGIN:VEVENT
UID:calendar.1010844.field_event_date_time.0@act.cfmeu.org.au
CREATED:20200114T020841Z
DESCRIPTION:Easter Monday
DTSTART;VALUE=DATE:20200413
DTEND;VALUE=DATE:20200414
LAST-MODIFIED:20200114T020841Z
SUMMARY:Easter Monday
URL;TYPE=URI:https://act.cfmeu.org.au/events/easter-monday-4
END:VEVENT
BEGIN:VEVENT
UID:calendar.1010846.field_event_date_time.0@act.cfmeu.org.au
CREATED:20200114T021039Z
DESCRIPTION:ANZAC Day
DTSTART;VALUE=DATE:20200425
DTEND;VALUE=DATE:20200426
LAST-MODIFIED:20200114T021039Z
SUMMARY:ANZAC Day
URL;TYPE=URI:https://act.cfmeu.org.au/events/anzac-day-4
END:VEVENT
BEGIN:VEVENT
UID:calendar.1010848.field_event_date_time.0@act.cfmeu.org.au
CREATED:20200114T021239Z
DESCRIPTION:Delegates/HSR Meeting
DTSTART;VALUE=DATE:20200429
DTEND;VALUE=DATE:20200430
LAST-MODIFIED:20200114T021239Z
SUMMARY:Delegates/HSR Meeting
URL;TYPE=URI:https://act.cfmeu.org.au/events/delegateshsr-meeting-11
END:VEVENT
BEGIN:VEVENT
UID:calendar.1010849.field_event_date_time.0@act.cfmeu.org.au
CREATED:20200114T021334Z
DESCRIPTION:RDO - 36 hour week
DTSTART;VALUE=DATE:20200504
DTEND;VALUE=DATE:20200505
LAST-MODIFIED:20200114T021334Z
SUMMARY:RDO - 36 hour week
URL;TYPE=URI:https://act.cfmeu.org.au/events/rdo-36-hour-week-31
END:VEVENT
BEGIN:VEVENT
UID:calendar.1010851.field_event_date_time.0@act.cfmeu.org.au
CREATED:20200114T021511Z
DESCRIPTION:Delegates/HSR Meeting
DTSTART;VALUE=DATE:20200527
DTEND;VALUE=DATE:20200528
LAST-MODIFIED:20200114T021511Z
SUMMARY:Delegates/HSR Meeting
URL;TYPE=URI:https://act.cfmeu.org.au/events/delegateshsr-meeting-12
END:VEVENT
BEGIN:VEVENT
UID:calendar.1010852.field_event_date_time.0@act.cfmeu.org.au
CREATED:20200114T021605Z
DESCRIPTION:Reconciliation Day
DTSTART;VALUE=DATE:20200601
DTEND;VALUE=DATE:20200602
LAST-MODIFIED:20200114T021605Z
SUMMARY:Reconciliation Day
URL;TYPE=URI:https://act.cfmeu.org.au/events/reconciliation-day-1
END:VEVENT
BEGIN:VEVENT
UID:calendar.1010853.field_event_date_time.0@act.cfmeu.org.au
CREATED:20200114T021703Z
DESCRIPTION:Queen's Birthday
DTSTART;VALUE=DATE:20200608
DTEND;VALUE=DATE:20200609
LAST-MODIFIED:20200114T021703Z
SUMMARY:Queen's Birthday
URL;TYPE=URI:https://act.cfmeu.org.au/events/queens-birthday-4
END:VEVENT
BEGIN:VEVENT
UID:calendar.1010855.field_event_date_time.0@act.cfmeu.org.au
CREATED:20200114T021912Z
DESCRIPTION:RDO - 36 hour week
DTSTART;VALUE=DATE:20200622
DTEND;VALUE=DATE:20200623
LAST-MODIFIED:20200114T021912Z
SUMMARY:RDO - 36 hour week
URL;TYPE=URI:https://act.cfmeu.org.au/events/rdo-36-hour-week-32
END:VEVENT
BEGIN:VEVENT
UID:calendar.1010856.field_event_date_time.0@act.cfmeu.org.au
CREATED:20200114T022003Z
DESCRIPTION:Delegates/HSR Meeting
DTSTART;VALUE=DATE:20200701
DTEND;VALUE=DATE:20200702
LAST-MODIFIED:20200114T022003Z
SUMMARY:Delegates/HSR Meeting
URL;TYPE=URI:https://act.cfmeu.org.au/events/delegateshsr-meeting-13
END:VEVENT
BEGIN:VEVENT
UID:calendar.1010857.field_event_date_time.0@act.cfmeu.org.au
CREATED:20200114T022050Z
DESCRIPTION:RDO - 36 hour week
DTSTART;VALUE=DATE:20200706
DTEND;VALUE=DATE:20200707
LAST-MODIFIED:20200114T022050Z
SUMMARY:RDO - 36 hour week
URL;TYPE=URI:https://act.cfmeu.org.au/events/rdo-36-hour-week-33
END:VEVENT
BEGIN:VEVENT
UID:calendar.1010859.field_event_date_time.0@act.cfmeu.org.au
CREATED:20200114T022231Z
DESCRIPTION:RDO - 36 hour week
DTSTART;VALUE=DATE:20200803
DTEND;VALUE=DATE:20200804
LAST-MODIFIED:20200114T022231Z
SUMMARY:RDO - 36 hour week
URL;TYPE=URI:https://act.cfmeu.org.au/events/rdo-36-hour-week-34
END:VEVENT
BEGIN:VEVENT
UID:calendar.1010860.field_event_date_time.0@act.cfmeu.org.au
CREATED:20200114T022328Z
DESCRIPTION:Delegates/HSR Meeting
DTSTART;VALUE=DATE:20200812
DTEND;VALUE=DATE:20200813
LAST-MODIFIED:20200114T022328Z
SUMMARY:Delegates/HSR Meeting
URL;TYPE=URI:https://act.cfmeu.org.au/events/delegateshsr-meeting-14
END:VEVENT
BEGIN:VEVENT
UID:calendar.1010862.field_event_date_time.0@act.cfmeu.org.au
CREATED:20200114T022506Z
DESCRIPTION:RDO - 36 hour week
DTSTART;VALUE=DATE:20200907
DTEND;VALUE=DATE:20200908
LAST-MODIFIED:20200114T022506Z
SUMMARY:RDO - 36 hour week
URL;TYPE=URI:https://act.cfmeu.org.au/events/rdo-36-hour-week-35
END:VEVENT
BEGIN:VEVENT
UID:calendar.1010863.field_event_date_time.0@act.cfmeu.org.au
CREATED:20200114T023050Z
DESCRIPTION:Delegates/HSR Meeting
DTSTART;VALUE=DATE:20200916
DTEND;VALUE=DATE:20200917
LAST-MODIFIED:20200114T023050Z
SUMMARY:Delegates/HSR Meeting
URL;TYPE=URI:https://act.cfmeu.org.au/events/delegateshsr-meeting-15
END:VEVENT
BEGIN:VEVENT
UID:calendar.1010865.field_event_date_time.0@act.cfmeu.org.au
CREATED:20200114T023228Z
DESCRIPTION:Labour Day
DTSTART;VALUE=DATE:20201005
DTEND;VALUE=DATE:20201006
LAST-MODIFIED:20200114T023228Z
SUMMARY:Labour Day
URL;TYPE=URI:https://act.cfmeu.org.au/events/labour-day-4
END:VEVENT
BEGIN:VEVENT
UID:calendar.1010867.field_event_date_time.0@act.cfmeu.org.au
CREATED:20200114T023524Z
DESCRIPTION:Delegates/HSR Meeting
DTSTART;VALUE=DATE:20201014
DTEND;VALUE=DATE:20201015
LAST-MODIFIED:20200114T023524Z
SUMMARY:Delegates/HSR Meeting
URL;TYPE=URI:https://act.cfmeu.org.au/events/delegateshsr-meeting-16
END:VEVENT
BEGIN:VEVENT
UID:calendar.1010868.field_event_date_time.0@act.cfmeu.org.au
CREATED:20200114T023613Z
DESCRIPTION:RDO - 36 hour week
DTSTART;VALUE=DATE:20201026
DTEND;VALUE=DATE:20201027
LAST-MODIFIED:20200114T023613Z
SUMMARY:RDO - 36 hour week
URL;TYPE=URI:https://act.cfmeu.org.au/events/rdo-36-hour-week-36
END:VEVENT
BEGIN:VEVENT
UID:calendar.1010869.field_event_date_time.0@act.cfmeu.org.au
CREATED:20200114T023706Z
DESCRIPTION:RDO - 36 hour week
DTSTART;VALUE=DATE:20201102
DTEND;VALUE=DATE:20201103
LAST-MODIFIED:20200114T023706Z
SUMMARY:RDO - 36 hour week
URL;TYPE=URI:https://act.cfmeu.org.au/events/rdo-36-hour-week-37
END:VEVENT
BEGIN:VEVENT
UID:calendar.1010870.field_event_date_time.0@act.cfmeu.org.au
CREATED:20200114T023815Z
DESCRIPTION:Branch Conference
DTSTART;VALUE=DATE:20201118
DTEND;VALUE=DATE:20201120
LAST-MODIFIED:20200114T023815Z
SUMMARY:Branch Conference
URL;TYPE=URI:https://act.cfmeu.org.au/events/branch-conference
END:VEVENT
BEGIN:VEVENT
UID:calendar.1010872.field_event_date_time.0@act.cfmeu.org.au
CREATED:20200114T023949Z
DESCRIPTION:RDO - 36 hour week
DTSTART;VALUE=DATE:20201207
DTEND;VALUE=DATE:20201208
LAST-MODIFIED:20200114T023949Z
SUMMARY:RDO - 36 hour week
URL;TYPE=URI:https://act.cfmeu.org.au/events/rdo-36-hour-week-38
END:VEVENT
BEGIN:VEVENT
UID:calendar.1010874.field_event_date_time.0@act.cfmeu.org.au
CREATED:20200114T024311Z
DESCRIPTION:Christmas Day
DTSTART;VALUE=DATE:20201225
DTEND;VALUE=DATE:20201226
LAST-MODIFIED:20200114T024311Z
SUMMARY:Christmas Day
URL;TYPE=URI:https://act.cfmeu.org.au/events/christmas-day-4
END:VEVENT
BEGIN:VEVENT
UID:calendar.1010875.field_event_date_time.0@act.cfmeu.org.au
CREATED:20200114T024417Z
DESCRIPTION:Boxing Day
DTSTART;VALUE=DATE:20201226
DTEND;VALUE=DATE:20201227
LAST-MODIFIED:20200114T024417Z
SUMMARY:Boxing Day
URL;TYPE=URI:https://act.cfmeu.org.au/events/boxing-day-5
END:VEVENT
BEGIN:VEVENT
UID:calendar.1010876.field_event_date_time.0@act.cfmeu.org.au
CREATED:20200114T024535Z
DESCRIPTION:Boxing Day Holiday
DTSTART;VALUE=DATE:20201228
DTEND;VALUE=DATE:20201229
LAST-MODIFIED:20200114T024535Z
SUMMARY:Boxing Day Holiday
URL;TYPE=URI:https://act.cfmeu.org.au/events/boxing-day-holiday-0
END:VEVENT
END:VCALENDAR
