BEGIN:VCALENDAR
VERSION:2.0
PRODID:-//Date iCal//NONSGML kigkonsult.se iCalcreator 2.20.2//
METHOD:PUBLISH
X-WR-CALNAME;VALUE=TEXT:CFMEU
BEGIN:VEVENT
UID:calendar.1010761.field_event_date_time.0@act.cfmeu.org.au
CREATED:20181207T001537Z
DESCRIPTION:New Years Day
DTSTART;VALUE=DATE:20190101
DTEND;VALUE=DATE:20190102
LAST-MODIFIED:20181207T001537Z
SUMMARY:New Years Day
URL;TYPE=URI:https://act.cfmeu.org.au/events/new-years-day-4
END:VEVENT
BEGIN:VEVENT
UID:calendar.1010762.field_event_date_time.0@act.cfmeu.org.au
CREATED:20181207T001751Z
DESCRIPTION:RDO - 36 hour week
DTSTART;VALUE=DATE:20190102
DTEND;VALUE=DATE:20190103
LAST-MODIFIED:20181207T001751Z
SUMMARY:RDO - 36 hour week
URL;TYPE=URI:https://act.cfmeu.org.au/events/rdo-36-hour-week-13
END:VEVENT
BEGIN:VEVENT
UID:calendar.1010763.field_event_date_time.0@act.cfmeu.org.au
CREATED:20181207T001922Z
DESCRIPTION:RDO - 36 hour week
DTSTART;VALUE=DATE:20190125
DTEND;VALUE=DATE:20190126
LAST-MODIFIED:20181207T001922Z
SUMMARY:RDO - 36 hour week
URL;TYPE=URI:https://act.cfmeu.org.au/events/rdo-36-hour-week-14
END:VEVENT
BEGIN:VEVENT
UID:calendar.1010764.field_event_date_time.0@act.cfmeu.org.au
CREATED:20181207T002247Z
DESCRIPTION:Designated long weekend
DTSTART;VALUE=DATE:20190126
DTEND;VALUE=DATE:20190130
LAST-MODIFIED:20181207T002247Z
SUMMARY:Designated long weekend
URL;TYPE=URI:https://act.cfmeu.org.au/events/designated-long-weekend
END:VEVENT
BEGIN:VEVENT
UID:calendar.1010765.field_event_date_time.0@act.cfmeu.org.au
CREATED:20181207T002405Z
DESCRIPTION:Australia Day
DTSTART;VALUE=DATE:20190126
DTEND;VALUE=DATE:20190127
LAST-MODIFIED:20181207T002405Z
SUMMARY:Australia Day
URL;TYPE=URI:https://act.cfmeu.org.au/events/australia-day-3
END:VEVENT
BEGIN:VEVENT
UID:calendar.1010766.field_event_date_time.0@act.cfmeu.org.au
CREATED:20181207T002552Z
DESCRIPTION:Australia Day Public Holiday
DTSTART;VALUE=DATE:20190128
DTEND;VALUE=DATE:20190129
LAST-MODIFIED:20181207T002552Z
SUMMARY:Australia Day Public Holiday
URL;TYPE=URI:https://act.cfmeu.org.au/events/australia-day-public-holiday-0
END:VEVENT
BEGIN:VEVENT
UID:calendar.1010768.field_event_date_time.0@act.cfmeu.org.au
CREATED:20181207T002844Z
DESCRIPTION:RDO - 36 hour week
DTSTART;VALUE=DATE:20190204
DTEND;VALUE=DATE:20190205
LAST-MODIFIED:20181207T002844Z
SUMMARY:RDO - 36 hour week
URL;TYPE=URI:https://act.cfmeu.org.au/events/rdo-36-hour-week-15
END:VEVENT
BEGIN:VEVENT
UID:calendar.1010769.field_event_date_time.0@act.cfmeu.org.au
CREATED:20181207T003019Z
DESCRIPTION:Delegates/HSR Meeting
DTSTART;VALUE=DATE:20190220
DTEND;VALUE=DATE:20190221
LAST-MODIFIED:20181207T003019Z
SUMMARY:Delegates/HSR Meeting
URL;TYPE=URI:https://act.cfmeu.org.au/events/delegateshsr-meeting
END:VEVENT
BEGIN:VEVENT
UID:calendar.1010771.field_event_date_time.0@act.cfmeu.org.au
CREATED:20181207T003450Z
DESCRIPTION:RDO - 36 hour week
DTSTART;VALUE=DATE:20190308
DTEND;VALUE=DATE:20190309
LAST-MODIFIED:20181207T003450Z
SUMMARY:RDO - 36 hour week
URL;TYPE=URI:https://act.cfmeu.org.au/events/rdo-36-hour-week-16
END:VEVENT
BEGIN:VEVENT
UID:calendar.1010772.field_event_date_time.0@act.cfmeu.org.au
CREATED:20181207T003602Z
DESCRIPTION:Designated long weekend
DTSTART;VALUE=DATE:20190309
DTEND;VALUE=DATE:20190313
LAST-MODIFIED:20181207T010721Z
SUMMARY:Designated long weekend
URL;TYPE=URI:https://act.cfmeu.org.au/events/designated-long-weekend-0
END:VEVENT
BEGIN:VEVENT
UID:calendar.1010773.field_event_date_time.0@act.cfmeu.org.au
CREATED:20181207T003802Z
DESCRIPTION:Canberra Day
DTSTART;VALUE=DATE:20190311
DTEND;VALUE=DATE:20190312
LAST-MODIFIED:20181207T003802Z
SUMMARY:Canberra Day
URL;TYPE=URI:https://act.cfmeu.org.au/events/canberra-day-1
END:VEVENT
BEGIN:VEVENT
UID:calendar.1010775.field_event_date_time.0@act.cfmeu.org.au
CREATED:20181207T004030Z
DESCRIPTION:Branch Meeting
DTSTART;VALUE=DATE:20190313
DTEND;VALUE=DATE:20190314
LAST-MODIFIED:20181207T010848Z
SUMMARY:Branch Meeting
URL;TYPE=URI:https://act.cfmeu.org.au/events/branch-meeting-2
END:VEVENT
BEGIN:VEVENT
UID:calendar.1010776.field_event_date_time.0@act.cfmeu.org.au
CREATED:20181207T004202Z
DESCRIPTION:Delegates/HSR Meeting
DTSTART;VALUE=DATE:20190320
DTEND;VALUE=DATE:20190321
LAST-MODIFIED:20181207T004202Z
SUMMARY:Delegates/HSR Meeting
URL;TYPE=URI:https://act.cfmeu.org.au/events/delegateshsr-meeting-0
END:VEVENT
BEGIN:VEVENT
UID:calendar.1010777.field_event_date_time.0@act.cfmeu.org.au
CREATED:20181207T004358Z
DESCRIPTION:Delegates/HSR Meeting
DTSTART;VALUE=DATE:20190417
DTEND;VALUE=DATE:20190418
LAST-MODIFIED:20181207T004358Z
SUMMARY:Delegates/HSR Meeting
URL;TYPE=URI:https://act.cfmeu.org.au/events/delegateshsr-meeting-1
END:VEVENT
BEGIN:VEVENT
UID:calendar.1010778.field_event_date_time.0@act.cfmeu.org.au
CREATED:20181207T004612Z
DESCRIPTION:Designated long weekend
DTSTART;VALUE=DATE:20190419
DTEND;VALUE=DATE:20190424
LAST-MODIFIED:20181207T004612Z
SUMMARY:Designated long weekend
URL;TYPE=URI:https://act.cfmeu.org.au/events/designated-long-weekend-1
END:VEVENT
BEGIN:VEVENT
UID:calendar.1010779.field_event_date_time.0@act.cfmeu.org.au
CREATED:20181207T004719Z
DESCRIPTION:Good Friday
DTSTART;VALUE=DATE:20190419
DTEND;VALUE=DATE:20190420
LAST-MODIFIED:20181207T004719Z
SUMMARY:Good Friday
URL;TYPE=URI:https://act.cfmeu.org.au/events/good-friday-3
END:VEVENT
BEGIN:VEVENT
UID:calendar.1010780.field_event_date_time.0@act.cfmeu.org.au
CREATED:20181207T004949Z
DESCRIPTION:Easter Saturday
DTSTART;VALUE=DATE:20190420
DTEND;VALUE=DATE:20190421
LAST-MODIFIED:20181207T004949Z
SUMMARY:Easter Saturday
URL;TYPE=URI:https://act.cfmeu.org.au/events/easter-saturday-0
END:VEVENT
BEGIN:VEVENT
UID:calendar.1010781.field_event_date_time.0@act.cfmeu.org.au
CREATED:20181207T005059Z
DESCRIPTION:Easter Sunday
DTSTART;VALUE=DATE:20190421
DTEND;VALUE=DATE:20190422
LAST-MODIFIED:20181207T005059Z
SUMMARY:Easter Sunday
URL;TYPE=URI:https://act.cfmeu.org.au/events/easter-sunday-0
END:VEVENT
BEGIN:VEVENT
UID:calendar.1010782.field_event_date_time.0@act.cfmeu.org.au
CREATED:20181207T005219Z
DESCRIPTION:Easter Monday
DTSTART;VALUE=DATE:20190422
DTEND;VALUE=DATE:20190423
LAST-MODIFIED:20181207T005219Z
SUMMARY:Easter Monday
URL;TYPE=URI:https://act.cfmeu.org.au/events/easter-monday-3
END:VEVENT
BEGIN:VEVENT
UID:calendar.1010784.field_event_date_time.0@act.cfmeu.org.au
CREATED:20181207T005826Z
DESCRIPTION:RDO - 36 hour week
DTSTART;VALUE=DATE:20190424
DTEND;VALUE=DATE:20190425
LAST-MODIFIED:20181207T005826Z
SUMMARY:RDO - 36 hour week
URL;TYPE=URI:https://act.cfmeu.org.au/events/rdo-36-hour-week-17
END:VEVENT
BEGIN:VEVENT
UID:calendar.1010785.field_event_date_time.0@act.cfmeu.org.au
CREATED:20181207T010245Z
DESCRIPTION:Designated long weekend
DTSTART;VALUE=DATE:20190425
DTEND;VALUE=DATE:20190429
LAST-MODIFIED:20181207T010245Z
SUMMARY:Designated long weekend
URL;TYPE=URI:https://act.cfmeu.org.au/events/designated-long-weekend-2
END:VEVENT
BEGIN:VEVENT
UID:calendar.1010786.field_event_date_time.0@act.cfmeu.org.au
CREATED:20181207T010411Z
DESCRIPTION:ANZAC Day
DTSTART;VALUE=DATE:20190425
DTEND;VALUE=DATE:20190426
LAST-MODIFIED:20181207T011142Z
SUMMARY:ANZAC Day
URL;TYPE=URI:https://act.cfmeu.org.au/events/anzac-day-3
END:VEVENT
BEGIN:VEVENT
UID:calendar.1010788.field_event_date_time.0@act.cfmeu.org.au
CREATED:20181207T025828Z
DESCRIPTION:Delegates/HSR Meeting
DTSTART;VALUE=DATE:20190515
DTEND;VALUE=DATE:20190516
LAST-MODIFIED:20181207T025828Z
SUMMARY:Delegates/HSR Meeting
URL;TYPE=URI:https://act.cfmeu.org.au/events/delegateshsr-meeting-2
END:VEVENT
BEGIN:VEVENT
UID:calendar.1010789.field_event_date_time.0@act.cfmeu.org.au
CREATED:20181207T025948Z
DESCRIPTION:RDO - 36 hour week
DTSTART;VALUE=DATE:20190524
DTEND;VALUE=DATE:20190525
LAST-MODIFIED:20181207T025948Z
SUMMARY:RDO - 36 hour week
URL;TYPE=URI:https://act.cfmeu.org.au/events/rdo-36-hour-week-18
END:VEVENT
BEGIN:VEVENT
UID:calendar.1010790.field_event_date_time.0@act.cfmeu.org.au
CREATED:20181207T030123Z
DESCRIPTION:Reconciliation Day
DTSTART;VALUE=DATE:20190527
DTEND;VALUE=DATE:20190528
LAST-MODIFIED:20181207T030123Z
SUMMARY:Reconciliation Day
URL;TYPE=URI:https://act.cfmeu.org.au/events/reconciliation-day-0
END:VEVENT
BEGIN:VEVENT
UID:calendar.1010792.field_event_date_time.0@act.cfmeu.org.au
CREATED:20181207T030801Z
DESCRIPTION:Designated long weekend
DTSTART;VALUE=DATE:20190608
DTEND;VALUE=DATE:20190612
LAST-MODIFIED:20181207T030801Z
SUMMARY:Designated long weekend
URL;TYPE=URI:https://act.cfmeu.org.au/events/designated-long-weekend-3
END:VEVENT
BEGIN:VEVENT
UID:calendar.1010793.field_event_date_time.0@act.cfmeu.org.au
CREATED:20181207T030902Z
DESCRIPTION:Queen's Birthday
DTSTART;VALUE=DATE:20190610
DTEND;VALUE=DATE:20190611
LAST-MODIFIED:20181207T030902Z
SUMMARY:Queen's Birthday
URL;TYPE=URI:https://act.cfmeu.org.au/events/queens-birthday-3
END:VEVENT
BEGIN:VEVENT
UID:calendar.1010795.field_event_date_time.0@act.cfmeu.org.au
CREATED:20181207T031110Z
DESCRIPTION:Branch Meeting
DTSTART;VALUE=DATE:20190612
DTEND;VALUE=DATE:20190613
LAST-MODIFIED:20181207T031110Z
SUMMARY:Branch Meeting
URL;TYPE=URI:https://act.cfmeu.org.au/events/branch-meeting-9
END:VEVENT
BEGIN:VEVENT
UID:calendar.1010796.field_event_date_time.0@act.cfmeu.org.au
CREATED:20181207T031213Z
DESCRIPTION:RDO - 36 hour week
DTSTART;VALUE=DATE:20190617
DTEND;VALUE=DATE:20190618
LAST-MODIFIED:20181207T031213Z
SUMMARY:RDO - 36 hour week
URL;TYPE=URI:https://act.cfmeu.org.au/events/rdo-36-hour-week-19
END:VEVENT
BEGIN:VEVENT
UID:calendar.1010797.field_event_date_time.0@act.cfmeu.org.au
CREATED:20181207T031314Z
DESCRIPTION:Delegates/HSR Meeting
DTSTART;VALUE=DATE:20190619
DTEND;VALUE=DATE:20190620
LAST-MODIFIED:20181207T031314Z
SUMMARY:Delegates/HSR Meeting
URL;TYPE=URI:https://act.cfmeu.org.au/events/delegateshsr-meeting-3
END:VEVENT
BEGIN:VEVENT
UID:calendar.1010798.field_event_date_time.0@act.cfmeu.org.au
CREATED:20181207T031425Z
DESCRIPTION:RDO - 36 hour week
DTSTART;VALUE=DATE:20190701
DTEND;VALUE=DATE:20190702
LAST-MODIFIED:20181207T031425Z
SUMMARY:RDO - 36 hour week
URL;TYPE=URI:https://act.cfmeu.org.au/events/rdo-36-hour-week-20
END:VEVENT
BEGIN:VEVENT
UID:calendar.1010799.field_event_date_time.0@act.cfmeu.org.au
CREATED:20181207T031522Z
DESCRIPTION:Delegates/HSR Meeting
DTSTART;VALUE=DATE:20190717
DTEND;VALUE=DATE:20190718
LAST-MODIFIED:20181207T032754Z
SUMMARY:Delegates/HSR Meeting
URL;TYPE=URI:https://act.cfmeu.org.au/events/delegateshsr-meeting-4
END:VEVENT
BEGIN:VEVENT
UID:calendar.1010801.field_event_date_time.0@act.cfmeu.org.au
CREATED:20181207T031722Z
DESCRIPTION:RDO - 36 hour week
DTSTART;VALUE=DATE:20190805
DTEND;VALUE=DATE:20190806
LAST-MODIFIED:20181207T031722Z
SUMMARY:RDO - 36 hour week
URL;TYPE=URI:https://act.cfmeu.org.au/events/rdo-36-hour-week-21
END:VEVENT
BEGIN:VEVENT
UID:calendar.1010802.field_event_date_time.0@act.cfmeu.org.au
CREATED:20181207T031850Z
DESCRIPTION:Delegates/HSR Meeting
DTSTART;VALUE=DATE:20190821
DTEND;VALUE=DATE:20190822
LAST-MODIFIED:20181207T031850Z
SUMMARY:Delegates/HSR Meeting
URL;TYPE=URI:https://act.cfmeu.org.au/events/delegateshsr-meeting-5
END:VEVENT
BEGIN:VEVENT
UID:calendar.1010804.field_event_date_time.0@act.cfmeu.org.au
CREATED:20181207T032118Z
DESCRIPTION:RDO - 36 hour week
DTSTART;VALUE=DATE:20190909
DTEND;VALUE=DATE:20190910
LAST-MODIFIED:20181207T032118Z
SUMMARY:RDO - 36 hour week
URL;TYPE=URI:https://act.cfmeu.org.au/events/rdo-36-hour-week-22
END:VEVENT
BEGIN:VEVENT
UID:calendar.1010805.field_event_date_time.0@act.cfmeu.org.au
CREATED:20181207T032215Z
DESCRIPTION:Branch Meeting
DTSTART;VALUE=DATE:20190911
DTEND;VALUE=DATE:20190912
LAST-MODIFIED:20181207T032215Z
SUMMARY:Branch Meeting
URL;TYPE=URI:https://act.cfmeu.org.au/events/branch-meeting-10
END:VEVENT
BEGIN:VEVENT
UID:calendar.1010806.field_event_date_time.0@act.cfmeu.org.au
CREATED:20181207T032320Z
DESCRIPTION:Delegates/HSR Meeting
DTSTART;VALUE=DATE:20190918
DTEND;VALUE=DATE:20190919
LAST-MODIFIED:20181207T032320Z
SUMMARY:Delegates/HSR Meeting
URL;TYPE=URI:https://act.cfmeu.org.au/events/delegateshsr-meeting-6
END:VEVENT
BEGIN:VEVENT
UID:calendar.1010809.field_event_date_time.0@act.cfmeu.org.au
CREATED:20181207T033446Z
DESCRIPTION:RDO - 36 hour week
DTSTART;VALUE=DATE:20191004
DTEND;VALUE=DATE:20191005
LAST-MODIFIED:20181207T033446Z
SUMMARY:RDO - 36 hour week
URL;TYPE=URI:https://act.cfmeu.org.au/events/rdo-36-hour-week-23
END:VEVENT
BEGIN:VEVENT
UID:calendar.1010810.field_event_date_time.0@act.cfmeu.org.au
CREATED:20181207T033632Z
DESCRIPTION:Designated long weekend
DTSTART;VALUE=DATE:20191005
DTEND;VALUE=DATE:20191009
LAST-MODIFIED:20181207T033632Z
SUMMARY:Designated long weekend
URL;TYPE=URI:https://act.cfmeu.org.au/events/designated-long-weekend-4
END:VEVENT
BEGIN:VEVENT
UID:calendar.1010811.field_event_date_time.0@act.cfmeu.org.au
CREATED:20181207T033740Z
DESCRIPTION:Labour Day
DTSTART;VALUE=DATE:20191007
DTEND;VALUE=DATE:20191008
LAST-MODIFIED:20181207T033740Z
SUMMARY:Labour Day
URL;TYPE=URI:https://act.cfmeu.org.au/events/labour-day-3
END:VEVENT
BEGIN:VEVENT
UID:calendar.1010813.field_event_date_time.0@act.cfmeu.org.au
CREATED:20181207T033943Z
DESCRIPTION:Delegates/HSR Meeting
DTSTART;VALUE=DATE:20191016
DTEND;VALUE=DATE:20191017
LAST-MODIFIED:20181207T033943Z
SUMMARY:Delegates/HSR Meeting
URL;TYPE=URI:https://act.cfmeu.org.au/events/delegateshsr-meeting-7
END:VEVENT
BEGIN:VEVENT
UID:calendar.1010814.field_event_date_time.0@act.cfmeu.org.au
CREATED:20181207T034044Z
DESCRIPTION:RDO - 36 hour week
DTSTART;VALUE=DATE:20191104
DTEND;VALUE=DATE:20191105
LAST-MODIFIED:20181207T034044Z
SUMMARY:RDO - 36 hour week
URL;TYPE=URI:https://act.cfmeu.org.au/events/rdo-36-hour-week-24
END:VEVENT
BEGIN:VEVENT
UID:calendar.1010815.field_event_date_time.0@act.cfmeu.org.au
CREATED:20181207T034145Z
DESCRIPTION:Delegates/HSR Meeting
DTSTART;VALUE=DATE:20191120
DTEND;VALUE=DATE:20191121
LAST-MODIFIED:20181207T034145Z
SUMMARY:Delegates/HSR Meeting
URL;TYPE=URI:https://act.cfmeu.org.au/events/delegateshsr-meeting-8
END:VEVENT
BEGIN:VEVENT
UID:calendar.1010817.field_event_date_time.0@act.cfmeu.org.au
CREATED:20181207T034349Z
DESCRIPTION:RDO - 36 hour week
DTSTART;VALUE=DATE:20191202
DTEND;VALUE=DATE:20191203
LAST-MODIFIED:20181207T034349Z
SUMMARY:RDO - 36 hour week
URL;TYPE=URI:https://act.cfmeu.org.au/events/rdo-36-hour-week-25
END:VEVENT
BEGIN:VEVENT
UID:calendar.1010819.field_event_date_time.0@act.cfmeu.org.au
CREATED:20181207T034605Z
DESCRIPTION:Christmas Day
DTSTART;VALUE=DATE:20191225
DTEND;VALUE=DATE:20191226
LAST-MODIFIED:20181207T034605Z
SUMMARY:Christmas Day
URL;TYPE=URI:https://act.cfmeu.org.au/events/christmas-day-3
END:VEVENT
BEGIN:VEVENT
UID:calendar.1010820.field_event_date_time.0@act.cfmeu.org.au
CREATED:20181207T034703Z
DESCRIPTION:Boxing Day
DTSTART;VALUE=DATE:20191226
DTEND;VALUE=DATE:20191227
LAST-MODIFIED:20181207T034703Z
SUMMARY:Boxing Day
URL;TYPE=URI:https://act.cfmeu.org.au/events/boxing-day-4
END:VEVENT
END:VCALENDAR
